BEGIN:VCALENDAR
VERSION:2.0
PRODID:icalendar-ruby
CALSCALE:GREGORIAN
METHOD:PUBLISH
BEGIN:VEVENT
DTSTAMP:20260424T100700Z
UID:12-2416273@harvestbaptist.ca
DTSTART:20260920T180000Z
DTEND:20260920T191500Z
CLASS:PUBLIC
CREATED:20260423T174233
DESCRIPTION:
LAST-MODIFIED:20260423T174233
LOCATION:
SUMMARY:Morning Service
URL;VALUE=URI:https://www.harvestbaptist.ca/events/morning-service/2026-09-
 20
END:VEVENT
END:VCALENDAR
