BEGIN:VCALENDAR
VERSION:2.0
PRODID:icalendar-ruby
CALSCALE:GREGORIAN
METHOD:PUBLISH
BEGIN:VEVENT
DTSTAMP:20260424T113554Z
UID:12-2416514@harvestbaptist.ca
DTSTART:20260927T180000Z
DTEND:20260927T191500Z
CLASS:PUBLIC
CREATED:20260424T031032
DESCRIPTION:
LAST-MODIFIED:20260424T031032
LOCATION:
SUMMARY:Morning Service
URL;VALUE=URI:https://www.harvestbaptist.ca/events/morning-service/2026-09-
 27
END:VEVENT
END:VCALENDAR
