BEGIN:VCALENDAR
VERSION:2.0
PRODID:icalendar-ruby
CALSCALE:GREGORIAN
METHOD:PUBLISH
BEGIN:VEVENT
DTSTAMP:20260424T132004Z
UID:12-2416755@harvestbaptist.ca
DTSTART:20261004T180000Z
DTEND:20261004T191500Z
CLASS:PUBLIC
CREATED:20260424T060520
DESCRIPTION:
LAST-MODIFIED:20260424T060520
LOCATION:
SUMMARY:Morning Service
URL;VALUE=URI:https://www.harvestbaptist.ca/events/morning-service/2026-10-
 04
END:VEVENT
END:VCALENDAR
