BEGIN:VCALENDAR
VERSION:2.0
PRODID:icalendar-ruby
CALSCALE:GREGORIAN
METHOD:PUBLISH
BEGIN:VEVENT
DTSTAMP:20260424T145515Z
UID:12-2416756@harvestbaptist.ca
DTSTART:20261011T180000Z
DTEND:20261011T191500Z
CLASS:PUBLIC
CREATED:20260424T060520
DESCRIPTION:
LAST-MODIFIED:20260424T060520
LOCATION:
SUMMARY:Morning Service
URL;VALUE=URI:https://www.harvestbaptist.ca/events/morning-service/2026-10-
 11
END:VEVENT
END:VCALENDAR
