BEGIN:VCALENDAR
VERSION:2.0
PRODID:icalendar-ruby
CALSCALE:GREGORIAN
METHOD:PUBLISH
BEGIN:VEVENT
DTSTAMP:20260424T162256Z
UID:12-2416997@harvestbaptist.ca
DTSTART:20261018T180000Z
DTEND:20261018T191500Z
CLASS:PUBLIC
CREATED:20260424T085727
DESCRIPTION:
LAST-MODIFIED:20260424T085727
LOCATION:
SUMMARY:Morning Service
URL;VALUE=URI:https://www.harvestbaptist.ca/events/morning-service/2026-10-
 18
END:VEVENT
END:VCALENDAR
