BEGIN:VCALENDAR
VERSION:2.0
PRODID:icalendar-ruby
CALSCALE:GREGORIAN
METHOD:PUBLISH
BEGIN:VEVENT
DTSTAMP:20260424T193652Z
UID:12-2417239@harvestbaptist.ca
DTSTART:20261101T190000Z
DTEND:20261101T201500Z
CLASS:PUBLIC
CREATED:20260424T114251
DESCRIPTION:
LAST-MODIFIED:20260424T114251
LOCATION:
SUMMARY:Morning Service
URL;VALUE=URI:https://www.harvestbaptist.ca/events/morning-service/2026-11-
 01
END:VEVENT
END:VCALENDAR
